BEGIN:VCALENDAR
VERSION:2.0
PRODID:-//Plone.org//NONSGML plone.app.event//EN
X-WR-TIMEZONE:Europe/Madrid
BEGIN:VEVENT
SUMMARY:Fòrum científic "How do evolutionary processes shape ecosystem p
 atterns and why do ecosystems constrain them?
DTSTART;TZID=Europe/Madrid:20161014T140000
DTEND;TZID=Europe/Madrid:20161014T150000
DTSTAMP:20260421T001405Z
UID:1b2ca157075087941c5991b9eccb7898@peter2pre.upc.edu:11004
CATEGORIES:Fòrum
CREATED:20101005T205800Z
LAST-MODIFIED:20101005T205900Z
LOCATION:Facultat de Biologia\, Aula Magna. Diagonal 645\, Barcelona
URL:https://is.upc.edu/ca/esdeveniments/forum-cientific-how-do-evolutionar
 y-processes-shape-ecosystem-patterns-and-why-do-ecosystems-constrain-them
END:VEVENT
BEGIN:VTIMEZONE
TZID:Europe/Madrid
X-LIC-LOCATION:Europe/Madrid
BEGIN:DAYLIGHT
DTSTART:20160327T030000
TZNAME:CEST
TZOFFSETFROM:+0100
TZOFFSETTO:+0200
END:DAYLIGHT
END:VTIMEZONE
END:VCALENDAR
