BEGIN:VCALENDAR
VERSION:2.0
PRODID:-//Plone.org//NONSGML plone.app.event//EN
X-WR-TIMEZONE:Europe/Madrid
BEGIN:VEVENT
SUMMARY:HDCA Conference 2011 - "Innovation\, Development & Human Capabilit
 ies"
DTSTART;TZID=Europe/Madrid:20161014T140000
DTEND;TZID=Europe/Madrid:20161014T150000
DTSTAMP:20260421T001308Z
UID:5bf0d6c763ed6332f151d965f4c7aaf1@peter2pre.upc.edu:11004
CREATED:20101222T093800Z
LAST-MODIFIED:20110608T092300Z
LOCATION:La Haia (Holanda)
URL:https://is.upc.edu/ca/esdeveniments/hdca-conference-2011-innovation-de
 velopment-human-capabilities
END:VEVENT
BEGIN:VTIMEZONE
TZID:Europe/Madrid
X-LIC-LOCATION:Europe/Madrid
BEGIN:DAYLIGHT
DTSTART:20160327T030000
TZNAME:CEST
TZOFFSETFROM:+0100
TZOFFSETTO:+0200
END:DAYLIGHT
END:VTIMEZONE
END:VCALENDAR
