BEGIN:VCALENDAR
VERSION:2.0
PRODID:-//Plone.org//NONSGML plone.app.event//EN
X-WR-TIMEZONE:Europe/Madrid
BEGIN:VEVENT
SUMMARY:Període de Preinscripció als Màsters Universitaris
DTSTART;TZID=Europe/Madrid:20161014T140000
DTEND;TZID=Europe/Madrid:20161014T150000
DTSTAMP:20260421T004139Z
UID:9afa7e7c-aa62-4498-bc74-6aeb9aed3e6c@peter2pre.upc.edu:11004
CREATED:20140317T085200Z
LAST-MODIFIED:20140317T085400Z
URL:https://is.upc.edu/ca/esdeveniments/periode-de-preinscripcio-als-maste
 rs-universitaris
END:VEVENT
BEGIN:VTIMEZONE
TZID:Europe/Madrid
X-LIC-LOCATION:Europe/Madrid
BEGIN:DAYLIGHT
DTSTART:20160327T030000
TZNAME:CEST
TZOFFSETFROM:+0100
TZOFFSETTO:+0200
END:DAYLIGHT
END:VTIMEZONE
END:VCALENDAR
