BEGIN:VCALENDAR
VERSION:2.0
PRODID:-//Plone.org//NONSGML plone.app.event//EN
X-WR-TIMEZONE:Europe/Madrid
BEGIN:VEVENT
SUMMARY:Presentació Base de Dades SiCS - STEP-FIB
DTSTART;TZID=Europe/Madrid:20161014T140000
DTEND;TZID=Europe/Madrid:20161014T150000
DTSTAMP:20260421T001313Z
UID:3070e580a3455694c0e8c41ff0eda7bf@peter2pre.upc.edu:11004
CATEGORIES:Presentació Eina
CREATED:20101129T092600Z
LAST-MODIFIED:20101129T092600Z
LOCATION:Aula A6-202. Campus Nord. Barcelona
URL:https://is.upc.edu/ca/esdeveniments/presentacio-base-de-dades-sics-ste
 p-fib
END:VEVENT
BEGIN:VTIMEZONE
TZID:Europe/Madrid
X-LIC-LOCATION:Europe/Madrid
BEGIN:DAYLIGHT
DTSTART:20160327T030000
TZNAME:CEST
TZOFFSETFROM:+0100
TZOFFSETTO:+0200
END:DAYLIGHT
END:VTIMEZONE
END:VCALENDAR
