BEGIN:VCALENDAR
VERSION:2.0
PRODID:-//Plone.org//NONSGML plone.app.event//EN
X-WR-TIMEZONE:Europe/Madrid
BEGIN:VEVENT
SUMMARY:Seminari de Recerca IS.UPC "From one to multi-dimensional poverty 
 metrics. Application to RWSS planning?"
DTSTART;TZID=Europe/Madrid:20161014T140000
DTEND;TZID=Europe/Madrid:20161014T150000
DTSTAMP:20260421T002320Z
UID:094f316e-59a0-48e1-9910-7fc02b5290ef@peter2pre.upc.edu:11004
CREATED:20120912T140400Z
LAST-MODIFIED:20140512T082100Z
LOCATION:Campus Nord\, Edificio C2\, Aula 212
URL:https://is.upc.edu/ca/esdeveniments/seminari-de-recerca-is.upc-2014
END:VEVENT
BEGIN:VTIMEZONE
TZID:Europe/Madrid
X-LIC-LOCATION:Europe/Madrid
BEGIN:DAYLIGHT
DTSTART:20160327T030000
TZNAME:CEST
TZOFFSETFROM:+0100
TZOFFSETTO:+0200
END:DAYLIGHT
END:VTIMEZONE
END:VCALENDAR
