BEGIN:VCALENDAR
VERSION:2.0
PRODID:-//Plone.org//NONSGML plone.app.event//EN
X-WR-TIMEZONE:Europe/Madrid
BEGIN:VEVENT
SUMMARY:Acte de presentació de projectes de cooperació del 2013
DTSTART;TZID=Europe/Madrid:20161014T140000
DTEND;TZID=Europe/Madrid:20161014T150000
DTSTAMP:20260421T020545Z
UID:49fa8287-c955-4f44-afed-0adda0d2b3da@peter2pre.upc.edu:11004
CREATED:20140331T095500Z
LAST-MODIFIED:20140331T095600Z
LOCATION:Aula Màster i Sala Polivalent del Campus Nord
URL:https://is.upc.edu/ca/esdeveniments/sessio-de-presentacio-de-projectes
 -de-cooperacio-del-2013
END:VEVENT
BEGIN:VTIMEZONE
TZID:Europe/Madrid
X-LIC-LOCATION:Europe/Madrid
BEGIN:DAYLIGHT
DTSTART:20160327T030000
TZNAME:CEST
TZOFFSETFROM:+0100
TZOFFSETTO:+0200
END:DAYLIGHT
END:VTIMEZONE
END:VCALENDAR
