BEGIN:VCALENDAR
VERSION:2.0
PRODID:-//Plone.org//NONSGML plone.app.event//EN
X-WR-TIMEZONE:Europe/Madrid
BEGIN:VEVENT
SUMMARY:Sessió de presentació de projectes del CCD 2011
DTSTART;TZID=Europe/Madrid:20161014T140000
DTEND;TZID=Europe/Madrid:20161014T150000
DTSTAMP:20260420T102129Z
UID:0741e38c-bb22-4a86-9210-162721e70f6c@peter2pre.upc.edu:11004
CREATED:20120326T083300Z
LAST-MODIFIED:20120326T083400Z
LOCATION:Aula Màster del Campus Nord de la UPC\, Barcelona
URL:https://is.upc.edu/ca/esdeveniments/sessio-de-presentacio-de-projectes
 -del-ccd-2011
END:VEVENT
BEGIN:VTIMEZONE
TZID:Europe/Madrid
X-LIC-LOCATION:Europe/Madrid
BEGIN:DAYLIGHT
DTSTART:20160327T030000
TZNAME:CEST
TZOFFSETFROM:+0100
TZOFFSETTO:+0200
END:DAYLIGHT
END:VTIMEZONE
END:VCALENDAR
