BEGIN:VCALENDAR
VERSION:2.0
PRODID:-//Plone.org//NONSGML plone.app.event//EN
X-WR-TIMEZONE:Europe/Madrid
BEGIN:VEVENT
SUMMARY:Sessió Informativa Màsters
DTSTART;TZID=Europe/Madrid:20161014T140000
DTEND;TZID=Europe/Madrid:20161014T150000
DTSTAMP:20260421T020227Z
UID:8217509e-2a86-4fbc-adab-398a70a3ff87@peter2pre.upc.edu:11004
CREATED:20140317T092900Z
LAST-MODIFIED:20140325T100900Z
LOCATION:Aula S216 de l'Edifici Vèrtex
URL:https://is.upc.edu/ca/esdeveniments/sessio-informativa-masters
END:VEVENT
BEGIN:VTIMEZONE
TZID:Europe/Madrid
X-LIC-LOCATION:Europe/Madrid
BEGIN:DAYLIGHT
DTSTART:20160327T030000
TZNAME:CEST
TZOFFSETFROM:+0100
TZOFFSETTO:+0200
END:DAYLIGHT
END:VTIMEZONE
END:VCALENDAR
