BEGIN:VCALENDAR
VERSION:2.0
PRODID:-//Plone.org//NONSGML plone.app.event//EN
X-WR-TIMEZONE:Europe/Madrid
BEGIN:VEVENT
SUMMARY:Sessions de debat del Programa Català d’Ecodisseny
DTSTART;TZID=Europe/Madrid:20161014T140000
DTEND;TZID=Europe/Madrid:20161014T150000
DTSTAMP:20260421T020546Z
UID:4ca7e535255cdacdb2c8a1be8fdcff7b@peter2pre.upc.edu:11004
CATEGORIES:Debat
CREATED:20111116T103300Z
LAST-MODIFIED:20111116T103300Z
LOCATION:Secretaria de Medi Ambient i Sostenibilitat (Av. Diagonal\, 523\,
  Barcelona)
URL:https://is.upc.edu/ca/esdeveniments/sessions-de-debat-del-programa-cat
 ala-d2019ecodisseny
END:VEVENT
BEGIN:VTIMEZONE
TZID:Europe/Madrid
X-LIC-LOCATION:Europe/Madrid
BEGIN:DAYLIGHT
DTSTART:20160327T030000
TZNAME:CEST
TZOFFSETFROM:+0100
TZOFFSETTO:+0200
END:DAYLIGHT
END:VTIMEZONE
END:VCALENDAR
