BEGIN:VCALENDAR
VERSION:2.0
PRODID:-//Plone.org//NONSGML plone.app.event//EN
X-WR-TIMEZONE:Europe/Madrid
BEGIN:VEVENT
SUMMARY:Talk of professor David Pargman: Computing within Limits and the S
 haring Economy/Collaborative Consumption
DTSTART;TZID=Europe/Madrid:20161103T090000
DTEND;TZID=Europe/Madrid:20161103T100000
DTSTAMP:20260420T054100Z
UID:c47d8833ff6147b68591fb15a8432b3d@is.upc.edu
CREATED:20161102T143052Z
LAST-MODIFIED:20161102T143218Z
LOCATION:UPC (Campus Nord)\,  Building  C6 Room E101
URL:https://is.upc.edu/ca/esdeveniments/talk-computing-within-limits-and-t
 he-sharing-economy-collaborative-consumption
END:VEVENT
BEGIN:VTIMEZONE
TZID:Europe/Madrid
X-LIC-LOCATION:Europe/Madrid
BEGIN:STANDARD
DTSTART:20161030T020000
TZNAME:CET
TZOFFSETFROM:+0200
TZOFFSETTO:+0100
END:STANDARD
END:VTIMEZONE
END:VCALENDAR
