BEGIN:VCALENDAR
VERSION:2.0
PRODID:-//Plone.org//NONSGML plone.app.event//EN
X-WR-TIMEZONE:Europe/Madrid
BEGIN:VEVENT
SUMMARY:BioTerra 2011
DTSTART;TZID=Europe/Madrid:20161014T140000
DTEND;TZID=Europe/Madrid:20161014T150000
DTSTAMP:20260420T221515Z
UID:542257dd6e4e753e84f4422708980be6@peter2pre.upc.edu:11004
CREATED:20110509T110900Z
LAST-MODIFIED:20161014T131802Z
LOCATION:FICOBA\, Recinte Firal de Gipuzkoa. Av de Iparralde\, 43. 20302 I
 run
URL:https://is.upc.edu/es/eventos/bioterra-2011
END:VEVENT
BEGIN:VTIMEZONE
TZID:Europe/Madrid
X-LIC-LOCATION:Europe/Madrid
BEGIN:DAYLIGHT
DTSTART:20160327T030000
TZNAME:CEST
TZOFFSETFROM:+0100
TZOFFSETTO:+0200
END:DAYLIGHT
END:VTIMEZONE
END:VCALENDAR
